BEGIN:VCALENDAR
VERSION:2.0
PRODID:-//Tukios.com/
BEGIN:VEVENT
UID:6088be1a-123e-4e91-8821-dcef6b913f6d@www.megiefuneralhome.com
DTSTAMP:20260423T185359Z
DTSTART:20260502T140000Z
DTEND:20260502T160000Z
SUMMARY:Visitation
DESCRIPTION:
URL:https://www.megiefuneralhome.com/obituaries/barbara-steward
LOCATION: 529 Main Street  Milford OH 45150
GEO:39.1768702;-84.291582
END:VEVENT
END:VCALENDAR