BEGIN:VCALENDAR
VERSION:2.0
PRODID:-//Tukios.com/
BEGIN:VEVENT
UID:855b17d2-8c40-47d7-98cd-72ce5d45a09e@www.megiefuneralhome.com
DTSTAMP:20260423T185354Z
DTSTART:20260502T160000Z
DTEND:20260502T170000Z
SUMMARY:Funeral Service
DESCRIPTION:
URL:https://www.megiefuneralhome.com/obituaries/barbara-steward
LOCATION: 529 Main Street  Milford OH 45150
GEO:39.1768702;-84.291582
END:VEVENT
END:VCALENDAR