BEGIN:VCALENDAR
VERSION:2.0
PRODID:-//Tukios.com/
BEGIN:VEVENT
UID:1d5b1442-f0eb-47ae-a0ee-16803b22e528@www.megiefuneralhome.com
DTSTAMP:20260423T185400Z
DTSTART:20260502T170000Z
DTEND:20260502T180000Z
SUMMARY:Graveside Service
DESCRIPTION:
URL:https://www.megiefuneralhome.com/obituaries/barbara-steward
LOCATION: North High St.  Mount Orab OH 45154
GEO:39.037698;-83.9197568
END:VEVENT
END:VCALENDAR