BEGIN:VCALENDAR
VERSION:2.0
PRODID:-//Tukios.com/
BEGIN:VEVENT
UID:f0acda32-a4fd-4fa7-8075-33bf76b62d8e@www.megiefuneralhome.com
DTSTAMP:20260425T025743Z
DTSTART:20260501T160000Z
DTEND:20260501T170000Z
SUMMARY:Graveside Service
DESCRIPTION:
URL:https://www.megiefuneralhome.com/obituaries/barbara-waits
LOCATION: North High St.  Mount Orab OH 45154
GEO:39.037698;-83.9197568
END:VEVENT
END:VCALENDAR