BEGIN:VCALENDAR
VERSION:2.0
PRODID:-//Tukios.com/
BEGIN:VEVENT
UID:0d1ec7d5-86f6-418f-b23d-f534fa3dbd99@www.megiefuneralhome.com
DTSTAMP:20260420T194252Z
DTSTART:20260424T170000Z
DTEND:20260424T180000Z
SUMMARY:Memorial Service
DESCRIPTION:
URL:https://www.megiefuneralhome.com/obituaries/gavin-lipscomb
LOCATION:Cornerstone Baptist Church 2249 Old St. Rt. 32  Batavia OH 45103
GEO:39.0834959;-84.1505664
END:VEVENT
END:VCALENDAR