BEGIN:VCALENDAR
VERSION:2.0
PRODID:-//Tukios.com/
BEGIN:VEVENT
UID:de702d06-6b27-4259-ade6-6930022bf901@www.megiefuneralhome.com
DTSTAMP:20260420T164123Z
DTSTART:20260422T170000Z
DTEND:20260422T180000Z
SUMMARY:Funeral Service
DESCRIPTION:
URL:https://www.megiefuneralhome.com/obituaries/jean-grider
LOCATION: 104 Spice Street  Mt. Orab OH 45154
GEO:39.0269129;-83.9190635
END:VEVENT
END:VCALENDAR